BEGIN:VCALENDAR
VERSION:2.0
PRODID:-//Thüringer-Ringer-Verband e.V. - ECPv4.9.13//NONSGML v1.0//EN
CALSCALE:GREGORIAN
METHOD:PUBLISH
X-WR-CALNAME:Thüringer-Ringer-Verband e.V.
X-ORIGINAL-URL:https://thueringer-ringer-verband.de
X-WR-CALDESC:Veranstaltungen im Thüringer-Ringer-Verband e.V.
BEGIN:VTIMEZONE
TZID:UTC
BEGIN:STANDARD
TZOFFSETFROM:+0000
TZOFFSETTO:+0000
TZNAME:UTC
DTSTART:20220101T000000
END:STANDARD
END:VTIMEZONE
BEGIN:VEVENT
DTSTART;VALUE=DATE:20221126
DTEND;VALUE=DATE:20221127
DTSTAMP:20260422T170607
CREATED:20221108T192821Z
LAST-MODIFIED:20221108T192821Z
UID:1180-1669420800-1669507199@thueringer-ringer-verband.de
SUMMARY:25. Dieter-Allmroth-Gedächtnisturnier in Waltershausen
DESCRIPTION:C-Jugend gr./röm \nD/E-Jugend Freistil \nAusschreibung: Ausschreibung Dieter-Allmrodt-Gedächtnisturnier 2022 \n
URL:https://thueringer-ringer-verband.de/termine/25-dieter-allmroth-gedaechtnisturnier-in-waltershausen
LOCATION:Waltershausen\, Sportanlage Gothaer Straße\, Ortsstraße 1\, Waltershausen\, Thüringen\, 99880\, Deutschland
END:VEVENT
END:VCALENDAR