BEGIN:VCALENDAR
VERSION:2.0
PRODID:-//Thüringer-Ringer-Verband e.V. - ECPv4.9.13//NONSGML v1.0//EN
CALSCALE:GREGORIAN
METHOD:PUBLISH
X-WR-CALNAME:Thüringer-Ringer-Verband e.V.
X-ORIGINAL-URL:https://thueringer-ringer-verband.de
X-WR-CALDESC:Veranstaltungen im Thüringer-Ringer-Verband e.V.
BEGIN:VTIMEZONE
TZID:UTC
BEGIN:STANDARD
TZOFFSETFROM:+0000
TZOFFSETTO:+0000
TZNAME:UTC
DTSTART:20220101T000000
END:STANDARD
END:VTIMEZONE
BEGIN:VEVENT
DTSTART;VALUE=DATE:20220408
DTEND;VALUE=DATE:20220411
DTSTAMP:20260423T033502
CREATED:20210907T055756Z
LAST-MODIFIED:20210907T055756Z
UID:1007-1649376000-1649635199@thueringer-ringer-verband.de
SUMMARY:DM B-Jgd FS  08.-10.04.2022
DESCRIPTION:
URL:https://thueringer-ringer-verband.de/termine/dm-b-jgd-fs-08-10-04-2022
LOCATION:Lippe-Detmold
CATEGORIES:Wettkampf
END:VEVENT
END:VCALENDAR