BEGIN:VCALENDAR
VERSION:2.0
PRODID:-//Thüringer-Ringer-Verband e.V. - ECPv4.9.13//NONSGML v1.0//EN
CALSCALE:GREGORIAN
METHOD:PUBLISH
X-WR-CALNAME:Thüringer-Ringer-Verband e.V.
X-ORIGINAL-URL:https://thueringer-ringer-verband.de
X-WR-CALDESC:Veranstaltungen im Thüringer-Ringer-Verband e.V.
BEGIN:VTIMEZONE
TZID:UTC
BEGIN:STANDARD
TZOFFSETFROM:+0000
TZOFFSETTO:+0000
TZNAME:UTC
DTSTART:20220101T000000
END:STANDARD
END:VTIMEZONE
BEGIN:VEVENT
DTSTART;VALUE=DATE:20220325
DTEND;VALUE=DATE:20220327
DTSTAMP:20260423T052414
CREATED:20210907T055130Z
LAST-MODIFIED:20210907T055130Z
UID:1003-1648166400-1648339199@thueringer-ringer-verband.de
SUMMARY:DM weibl. Jgd 25.-6.03.2022
DESCRIPTION:
URL:https://thueringer-ringer-verband.de/termine/dm-weibl-jgd-25-6-03-2022
LOCATION:N.N.
CATEGORIES:Wettkampf
END:VEVENT
END:VCALENDAR