BEGIN:VCALENDAR
VERSION:2.0
PRODID:-//Thüringer-Ringer-Verband e.V. - ECPv4.9.13//NONSGML v1.0//EN
CALSCALE:GREGORIAN
METHOD:PUBLISH
X-WR-CALNAME:Thüringer-Ringer-Verband e.V.
X-ORIGINAL-URL:https://thueringer-ringer-verband.de
X-WR-CALDESC:Veranstaltungen im Thüringer-Ringer-Verband e.V.
BEGIN:VTIMEZONE
TZID:UTC
BEGIN:STANDARD
TZOFFSETFROM:+0000
TZOFFSETTO:+0000
TZNAME:UTC
DTSTART:20210101T000000
END:STANDARD
END:VTIMEZONE
BEGIN:VEVENT
DTSTART;VALUE=DATE:20211008
DTEND;VALUE=DATE:20211010
DTSTAMP:20260423T102505
CREATED:20210904T162333Z
LAST-MODIFIED:20210904T162333Z
UID:1000-1633651200-1633823999@thueringer-ringer-verband.de
SUMMARY:DM weibliche Jugend A-B Dormagen
DESCRIPTION:
URL:https://thueringer-ringer-verband.de/termine/dm-weibliche-jugend-a-b-dormagen
LOCATION:Dormagen Dreifachsporthalle\, Marie-Schlei-Straße 6\, Dormagen\, 41542
CATEGORIES:Wettkampf
END:VEVENT
END:VCALENDAR