BEGIN:VCALENDAR
VERSION:2.0
PRODID:-//Thüringer-Ringer-Verband e.V. - ECPv4.9.13//NONSGML v1.0//EN
CALSCALE:GREGORIAN
METHOD:PUBLISH
X-WR-CALNAME:Thüringer-Ringer-Verband e.V.
X-ORIGINAL-URL:https://thueringer-ringer-verband.de
X-WR-CALDESC:Veranstaltungen im Thüringer-Ringer-Verband e.V.
BEGIN:VTIMEZONE
TZID:UTC
BEGIN:STANDARD
TZOFFSETFROM:+0000
TZOFFSETTO:+0000
TZNAME:UTC
DTSTART:20220101T000000
END:STANDARD
END:VTIMEZONE
BEGIN:VEVENT
DTSTART;TZID=UTC:20220824T180000
DTEND;TZID=UTC:20220824T200000
DTSTAMP:20260423T001029
CREATED:20220628T201519Z
LAST-MODIFIED:20220628T201912Z
UID:1109-1661364000-1661371200@thueringer-ringer-verband.de
SUMMARY:Jugendvoll-versammlung - Online
DESCRIPTION:
URL:https://thueringer-ringer-verband.de/termine/jugendvollversammlung-online
LOCATION:Online
END:VEVENT
END:VCALENDAR