BEGIN:VCALENDAR
VERSION:2.0
PRODID:-//Thüringer-Ringer-Verband e.V. - ECPv4.9.13//NONSGML v1.0//EN
CALSCALE:GREGORIAN
METHOD:PUBLISH
X-WR-CALNAME:Thüringer-Ringer-Verband e.V.
X-ORIGINAL-URL:https://thueringer-ringer-verband.de
X-WR-CALDESC:Veranstaltungen im Thüringer-Ringer-Verband e.V.
BEGIN:VTIMEZONE
TZID:UTC
BEGIN:STANDARD
TZOFFSETFROM:+0000
TZOFFSETTO:+0000
TZNAME:UTC
DTSTART:20210101T000000
END:STANDARD
END:VTIMEZONE
BEGIN:VEVENT
DTSTART;VALUE=DATE:20210918
DTEND;VALUE=DATE:20210919
DTSTAMP:20260423T151321
CREATED:20210901T063452Z
LAST-MODIFIED:20210901T065316Z
UID:973-1631923200-1632009599@thueringer-ringer-verband.de
SUMMARY:MDM B-Jugend Jena
DESCRIPTION:MDM B-Jugend Jena 18.09.2021 \n
URL:https://thueringer-ringer-verband.de/termine/mdm-b-jugend-jena
LOCATION:Jena Sportforum\, Am Stadion2\, Jena\, 07749
CATEGORIES:Wettkampf
END:VEVENT
END:VCALENDAR