BEGIN:VCALENDAR
VERSION:2.0
PRODID:-//Thüringer-Ringer-Verband e.V. - ECPv4.9.13//NONSGML v1.0//EN
CALSCALE:GREGORIAN
METHOD:PUBLISH
X-WR-CALNAME:Thüringer-Ringer-Verband e.V.
X-ORIGINAL-URL:https://thueringer-ringer-verband.de
X-WR-CALDESC:Veranstaltungen im Thüringer-Ringer-Verband e.V.
BEGIN:VTIMEZONE
TZID:UTC
BEGIN:STANDARD
TZOFFSETFROM:+0000
TZOFFSETTO:+0000
TZNAME:UTC
DTSTART:20210101T000000
END:STANDARD
END:VTIMEZONE
BEGIN:VEVENT
DTSTART;VALUE=DATE:20211030
DTEND;VALUE=DATE:20211031
DTSTAMP:20260423T070914
CREATED:20210901T184121Z
LAST-MODIFIED:20210901T184121Z
UID:984-1635552000-1635638399@thueringer-ringer-verband.de
SUMMARY:MDM C/D-Jugend GR Plauen
DESCRIPTION:2021_10_30_MDM_C-D-Jugend_GR_Plauen \n
URL:https://thueringer-ringer-verband.de/termine/mdm-c-d-jugend-gr-plauen
LOCATION:Plauen Mehrzweckhalle\, Europaratstraße 3\, Plauen\, 09523
CATEGORIES:Wettkampf
END:VEVENT
END:VCALENDAR