BEGIN:VCALENDAR
VERSION:2.0
PRODID:-//Thüringer-Ringer-Verband e.V. - ECPv4.9.13//NONSGML v1.0//EN
CALSCALE:GREGORIAN
METHOD:PUBLISH
X-WR-CALNAME:Thüringer-Ringer-Verband e.V.
X-ORIGINAL-URL:https://thueringer-ringer-verband.de
X-WR-CALDESC:Veranstaltungen im Thüringer-Ringer-Verband e.V.
BEGIN:VTIMEZONE
TZID:UTC
BEGIN:STANDARD
TZOFFSETFROM:+0000
TZOFFSETTO:+0000
TZNAME:UTC
DTSTART:20210101T000000
END:STANDARD
END:VTIMEZONE
BEGIN:VEVENT
DTSTART;VALUE=DATE:20210911
DTEND;VALUE=DATE:20210912
DTSTAMP:20260423T165808
CREATED:20210901T064414Z
LAST-MODIFIED:20210901T065354Z
UID:975-1631318400-1631404799@thueringer-ringer-verband.de
SUMMARY:MDM weibl. Berlin  11.09.2021
DESCRIPTION:21-09-11 Ausschreibung MDM weibl. Berlin \n
URL:https://thueringer-ringer-verband.de/termine/mdm-weibl-berlin-11-09-2021
LOCATION:Sporthalle des Oberstufenzentrums Banken/Immobilien Alt Moabit 10\, 10557 Berlin\, Alt Moabit 10\, Berlin\, Berlin\, 10557
CATEGORIES:Wettkampf
END:VEVENT
END:VCALENDAR