BEGIN:VCALENDAR
VERSION:2.0
PRODID:-//Thüringer-Ringer-Verband e.V. - ECPv4.9.13//NONSGML v1.0//EN
CALSCALE:GREGORIAN
METHOD:PUBLISH
X-WR-CALNAME:Thüringer-Ringer-Verband e.V.
X-ORIGINAL-URL:https://thueringer-ringer-verband.de
X-WR-CALDESC:Veranstaltungen im Thüringer-Ringer-Verband e.V.
BEGIN:VTIMEZONE
TZID:UTC
BEGIN:STANDARD
TZOFFSETFROM:+0000
TZOFFSETTO:+0000
TZNAME:UTC
DTSTART:20220101T000000
END:STANDARD
END:VTIMEZONE
BEGIN:VEVENT
DTSTART;VALUE=DATE:20221204
DTEND;VALUE=DATE:20221205
DTSTAMP:20260422T152159
CREATED:20221108T192032Z
LAST-MODIFIED:20221108T192032Z
UID:1176-1670112000-1670198399@thueringer-ringer-verband.de
SUMMARY:Sparkassenpokal Jena
DESCRIPTION:A/B-Jugend freier Stil; Ausschreibung: Ausschreibung-Sparkassenpokal_2022 Meldeliste-Sparkassenpokal-Jena-2022 \n  \n
URL:https://thueringer-ringer-verband.de/termine/sparkassenpokal-jena-2
LOCATION:Jena Sportforum\, Am Stadion2\, Jena\, 07749
END:VEVENT
END:VCALENDAR