BEGIN:VCALENDAR
VERSION:2.0
PRODID:-//Thüringer-Ringer-Verband e.V. - ECPv4.9.13//NONSGML v1.0//EN
CALSCALE:GREGORIAN
METHOD:PUBLISH
X-WR-CALNAME:Thüringer-Ringer-Verband e.V.
X-ORIGINAL-URL:https://thueringer-ringer-verband.de
X-WR-CALDESC:Veranstaltungen im Thüringer-Ringer-Verband e.V.
BEGIN:VTIMEZONE
TZID:UTC
BEGIN:STANDARD
TZOFFSETFROM:+0000
TZOFFSETTO:+0000
TZNAME:UTC
DTSTART:20230101T000000
END:STANDARD
END:VTIMEZONE
BEGIN:VEVENT
DTSTART;VALUE=DATE:20230121
DTEND;VALUE=DATE:20230122
DTSTAMP:20260422T133732
CREATED:20230104T151911Z
LAST-MODIFIED:20230104T151911Z
UID:1202-1674259200-1674345599@thueringer-ringer-verband.de
SUMMARY:Thüringer Meisterschaft Griechisch-Römisch - 2023 -  Männer / A-Jugend / B-Jugend / C-Jugend / D-Jugend
DESCRIPTION:offene Thüringer Meisterschaften 2023  \nMänner / A-Jugend / B-Jugend / C-Jugend / D-Jugend\nGriechisch-Römisch \n
URL:https://thueringer-ringer-verband.de/termine/thueringer-meisterschaft-griechisch-roemisch-2023-maenner-a-jugend-b-jugend-c-jugend-d-jugend
LOCATION:99544 Zella-Mehlis\, An der Schillerschule Dreifelderhalle\, An der Schillerschule 23\, 99544 Zella-Mehlis\, Deutschland
CATEGORIES:Wettkampf
END:VEVENT
END:VCALENDAR